BEGIN:VCALENDAR
CALSCALE:GREGORIAN
VERSION:2.0
METHOD:PUBLISH 
X-WR-CALNAME:
BEGIN:VEVENT
DTSTART;TZID=Europe/Paris:20260523T180000
DTEND;TZID=Europe/Paris:20260523T190000
SUMMARY:Concert Bouskidou Symphonique
CATEGORIE:Concerts et Musique
GEO:47.27712500000000;-2.20437500000000
LOCATION:Théâtre Simone Veil\, Rue des Frères Pereire\, 44600 Saint-Nazaire\, France
URL:https://www.fest.fr/e/2355533
UID:2355533-1@fest.fr
END:VEVENT
END:VCALENDAR
