BEGIN:VCALENDAR
CALSCALE:GREGORIAN
VERSION:2.0
METHOD:PUBLISH 
X-WR-CALNAME:
BEGIN:VEVENT
DTSTART;TZID=Europe/Paris:20260315T150000
DTEND;TZID=Europe/Paris:20260315T160000
SUMMARY:Meilleurs Voeux
CATEGORIE:Spectacles et Théâtre
GEO:46.70577421262674;-1.42128445208073
LOCATION:Théâtre de la Coutancière\, La Coutancière\, 85000 La Roche-sur-Yon\, France
URL:https://www.fest.fr/e/2355213
UID:2355213-1@fest.fr
END:VEVENT
END:VCALENDAR
