BEGIN:VCALENDAR
CALSCALE:GREGORIAN
VERSION:2.0
METHOD:PUBLISH 
X-WR-CALNAME:
BEGIN:VEVENT
DTSTART;TZID=Europe/Paris:20260414T103000
DTEND;TZID=Europe/Paris:20260414T113000
SUMMARY:Atelier enfant - "De l'inscription dans la ville à la lettrine calligraphiée" - 
CATEGORIE:Stages, Ateliers et Initiations
GEO:46.46595440000000;-0.80648710000000
LOCATION:9 Rue Georges Clémenceau
Hôtel de ville\, 85200 Fontenay-le-Comte\, France
URL:https://www.fest.fr/e/2354817
UID:2354817-1@fest.fr
END:VEVENT
END:VCALENDAR
