BEGIN:VCALENDAR
CALSCALE:GREGORIAN
VERSION:2.0
METHOD:PUBLISH 
X-WR-CALNAME:
BEGIN:VEVENT
DTSTART;TZID=Europe/Paris:20260730T103000
DTEND;TZID=Europe/Paris:20260730T113000
SUMMARY:Le plancton à la loupe
CATEGORIE:Stages, Ateliers et Initiations
GEO:48.83038000000000;-3.49063000000000
LOCATION:112 Chemin de la Pointe\, 22700 Perros-Guirec\, France
URL:https://www.fest.fr/e/2354720
UID:2354720-1@fest.fr
END:VEVENT
END:VCALENDAR
