BEGIN:VCALENDAR
CALSCALE:GREGORIAN
VERSION:2.0
METHOD:PUBLISH 
X-WR-CALNAME:
BEGIN:VEVENT
DTSTART;TZID=Europe/Paris:20261010T203000
DTEND;TZID=Europe/Paris:20261010T213000
SUMMARY:Christelle Chollet - Culottée
CATEGORIE:Spectacles et théâtre
GEO:43.92580750435900;2.14918151799700
LOCATION:Théâtre municipal des Lices\, Rue Saint-Antoine\, 81000 Albi\, France
URL:https://www.fest.fr/e/2354254
UID:2354254-1@fest.fr
END:VEVENT
END:VCALENDAR
