BEGIN:VCALENDAR
CALSCALE:GREGORIAN
VERSION:2.0
METHOD:PUBLISH 
X-WR-CALNAME:
BEGIN:VEVENT
DTSTART;TZID=Europe/Paris:20260307T100000
DTEND;TZID=Europe/Paris:20260307T110000
SUMMARY:Salon Dix Vins & Saveurs - 8ème édition
CATEGORIE:Marchés, Foires et Salons
GEO:45.00699700000000;5.09162300000000
LOCATION:Place du 19 Mars 1962
Salle des fêtes\, 26300 Chatuzange-le-Goubet\, France
URL:https://www.fest.fr/e/2354065
UID:2354065-1@fest.fr
END:VEVENT
BEGIN:VEVENT
DTSTART;TZID=Europe/Paris:20260308T100000
DTEND;TZID=Europe/Paris:20260308T110000
SUMMARY:Salon Dix Vins & Saveurs - 8ème édition
CATEGORIE:Marchés, Foires et Salons
GEO:45.00699700000000;5.09162300000000
LOCATION:Place du 19 Mars 1962
Salle des fêtes\, 26300 Chatuzange-le-Goubet\, France
URL:https://www.fest.fr/e/2354065
UID:2354065-2@fest.fr
END:VEVENT
END:VCALENDAR
