BEGIN:VCALENDAR
CALSCALE:GREGORIAN
VERSION:2.0
METHOD:PUBLISH 
X-WR-CALNAME:
BEGIN:VEVENT
DTSTART;TZID=Europe/Paris:20260318T103000
DTEND;TZID=Europe/Paris:20260318T113000
SUMMARY:Lectures
CATEGORIE:Littérature
GEO:48.13575600000000;-1.66822000000000
LOCATION:Bibliothèque Bellangerais\, 5bis, rue du Morbihan 35000\, 35700 Rennes\, France
URL:https://www.fest.fr/e/2353912
UID:2353912-1@fest.fr
END:VEVENT
END:VCALENDAR
