BEGIN:VCALENDAR
CALSCALE:GREGORIAN
VERSION:2.0
METHOD:PUBLISH 
X-WR-CALNAME:
BEGIN:VEVENT
DTSTART;TZID=Europe/Paris:20260321T203000
DTEND;TZID=Europe/Paris:20260321T213000
SUMMARY:Le Grand Amour de Victor Hugo
CATEGORIE:Spectacles et Théâtre
GEO:48.79861400000000;2.02455900000000
LOCATION:Théâtre de La Grange\, 11 rue du parc, \, 78390 Bois-d'Arcy\, France
URL:https://www.fest.fr/e/2353911
UID:2353911-1@fest.fr
END:VEVENT
END:VCALENDAR
