BEGIN:VCALENDAR
CALSCALE:GREGORIAN
VERSION:2.0
METHOD:PUBLISH 
X-WR-CALNAME:
BEGIN:VEVENT
DTSTART;TZID=Europe/Paris:20261106T160000
DTEND;TZID=Europe/Paris:20261106T170000
SUMMARY:Art3f Mulhous e
CATEGORIE:Marchés, Foires et Salons
LOCATION:Parc des Expositions\, 120 rue Lefebvre\, 68100 Mulhouse\, France
URL:https://www.fest.fr/e/2353755
UID:2353755-1@fest.fr
END:VEVENT
BEGIN:VEVENT
DTSTART;TZID=Europe/Paris:20261107T100000
DTEND;TZID=Europe/Paris:20261107T110000
SUMMARY:Art3f Mulhous e
CATEGORIE:Marchés, Foires et Salons
LOCATION:Parc des Expositions\, 120 rue Lefebvre\, 68100 Mulhouse\, France
URL:https://www.fest.fr/e/2353755
UID:2353755-2@fest.fr
END:VEVENT
BEGIN:VEVENT
DTSTART;TZID=Europe/Paris:20261108T100000
DTEND;TZID=Europe/Paris:20261108T110000
SUMMARY:Art3f Mulhous e
CATEGORIE:Marchés, Foires et Salons
LOCATION:Parc des Expositions\, 120 rue Lefebvre\, 68100 Mulhouse\, France
URL:https://www.fest.fr/e/2353755
UID:2353755-3@fest.fr
END:VEVENT
END:VCALENDAR
