BEGIN:VCALENDAR
CALSCALE:GREGORIAN
VERSION:2.0
METHOD:PUBLISH 
X-WR-CALNAME:
BEGIN:VEVENT
DTSTART;TZID=Europe/Paris:20260311T123456
DTEND;TZID=Europe/Paris:20260311T133456
SUMMARY:Visite – jeu « Où sont les femmes ? » - Les mercredis en famille
CATEGORIE:Expositions, Visites et Découvertes
GEO:44.93113300000000;4.88922700000000
LOCATION:4 Place des Ormeaux
Musée de Valence\, 26000 Valence\, France
URL:https://www.fest.fr/e/2352881
UID:2352881-1@fest.fr
END:VEVENT
END:VCALENDAR
