BEGIN:VCALENDAR
CALSCALE:GREGORIAN
VERSION:2.0
METHOD:PUBLISH 
X-WR-CALNAME:
BEGIN:VEVENT
DTSTART;TZID=Europe/Paris:20260324T180000
DTEND;TZID=Europe/Paris:20260324T190000
SUMMARY:Ventilation naturelle, respirer sans machine
CATEGORIE:Conférences, Forums et Débats
GEO:48.69581400000000;6.19320800000000
LOCATION:Ecole nationale supérieure d'architecture de Nancy\, 2, rue Bastien-Lepage 54000 NANCY\, 54100 Nancy\, France
URL:https://www.fest.fr/e/2352414
UID:2352414-1@fest.fr
END:VEVENT
END:VCALENDAR
