BEGIN:VCALENDAR
CALSCALE:GREGORIAN
VERSION:2.0
METHOD:PUBLISH 
X-WR-CALNAME:
BEGIN:VEVENT
DTSTART;TZID=Europe/Paris:20260210T180000
DTEND;TZID=Europe/Paris:20260210T190000
SUMMARY:☕ Café-débat – Handicap psychique & santé mentale
CATEGORIE:Conférences, Forums et Débats
GEO:48.00300000000000;0.19422100000000
LOCATION:portland Bar\, 34 rue du Port  LE MANS\, 72000 Le Mans\, France
URL:https://www.fest.fr/e/2352249
UID:2352249-1@fest.fr
END:VEVENT
END:VCALENDAR
