BEGIN:VCALENDAR
CALSCALE:GREGORIAN
VERSION:2.0
METHOD:PUBLISH 
X-WR-CALNAME:
BEGIN:VEVENT
DTSTART;TZID=Europe/Paris:20260204T183000
DTEND;TZID=Europe/Paris:20260204T193000
SUMMARY:Conférence : La forêt tropicale, du mythe de la forêt vierge à l'épuisement des 
CATEGORIE:Conférences, Forums et Débats
GEO:48.63700200000000;4.94735000000000
LOCATION:Théâtre de Saint-Dizier\, Place Aristide Briand\, 52100 Saint-Dizier\, France
URL:https://www.fest.fr/e/2351692
UID:2351692-1@fest.fr
END:VEVENT
END:VCALENDAR
