BEGIN:VCALENDAR
CALSCALE:GREGORIAN
VERSION:2.0
METHOD:PUBLISH 
X-WR-CALNAME:
BEGIN:VEVENT
DTSTART;TZID=Europe/Paris:20260611T193000
DTEND;TZID=Europe/Paris:20260611T203000
SUMMARY:Spectacle des Classes à Horaires Aménagés Théâtre
CATEGORIE:Spectacles et Théâtre
GEO:48.73468300000000;1.36372600000000
LOCATION:Auditorium de l'Odyssée\, 1 place Mésirard\, 28100 Dreux\, France
URL:https://www.fest.fr/e/2351639
UID:2351639-1@fest.fr
END:VEVENT
BEGIN:VEVENT
DTSTART;TZID=Europe/Paris:20260612T193000
DTEND;TZID=Europe/Paris:20260612T203000
SUMMARY:Spectacle des Classes à Horaires Aménagés Théâtre
CATEGORIE:Spectacles et Théâtre
GEO:48.73468300000000;1.36372600000000
LOCATION:Auditorium de l'Odyssée\, 1 place Mésirard\, 28100 Dreux\, France
URL:https://www.fest.fr/e/2351639
UID:2351639-2@fest.fr
END:VEVENT
BEGIN:VEVENT
DTSTART;TZID=Europe/Paris:20260615T193000
DTEND;TZID=Europe/Paris:20260615T203000
SUMMARY:Spectacle des Classes à Horaires Aménagés Théâtre
CATEGORIE:Spectacles et Théâtre
GEO:48.73468300000000;1.36372600000000
LOCATION:Auditorium de l'Odyssée\, 1 place Mésirard\, 28100 Dreux\, France
URL:https://www.fest.fr/e/2351639
UID:2351639-3@fest.fr
END:VEVENT
END:VCALENDAR
