BEGIN:VCALENDAR
CALSCALE:GREGORIAN
VERSION:2.0
METHOD:PUBLISH 
X-WR-CALNAME:
BEGIN:VEVENT
DTSTART;TZID=Europe/Paris:20260319T190000
DTEND;TZID=Europe/Paris:20260319T200000
SUMMARY:Cécilia Dutter présente « Éloge spirituel de l'abandon »
CATEGORIE:Littérature
GEO:48.85443200000000;2.32620200000000
LOCATION:Librairie Gallimard\, 15, boulevard Raspail,Paris\, 75007 Paris 7e\, France
URL:https://www.fest.fr/e/2351621
UID:2351621-1@fest.fr
END:VEVENT
END:VCALENDAR
