BEGIN:VCALENDAR
CALSCALE:GREGORIAN
VERSION:2.0
METHOD:PUBLISH 
X-WR-CALNAME:
BEGIN:VEVENT
DTSTART;TZID=Europe/Paris:20260512T203000
DTEND;TZID=Europe/Paris:20260512T213000
SUMMARY:Madd Cadies
CATEGORIE:Concerts et musique
GEO:43.29271953486000;5.38324218338700
LOCATION:Le Molotov\, 3, place Paul Cézanne\, 13006 Marseille 6e\, France
URL:https://www.fest.fr/e/2351508
UID:2351508-1@fest.fr
END:VEVENT
END:VCALENDAR
