BEGIN:VCALENDAR
CALSCALE:GREGORIAN
VERSION:2.0
METHOD:PUBLISH 
X-WR-CALNAME:
BEGIN:VEVENT
DTSTART;TZID=Europe/Paris:20260416T190000
DTEND;TZID=Europe/Paris:20260416T200000
SUMMARY:Vincent Barat - Articule !
CATEGORIE:Spectacles et théâtre
LOCATION:Le Solo\, 138, Boulevard Richard Lenoir\, 75011 Paris 11e\, France
URL:https://www.fest.fr/e/2351475
UID:2351475-1@fest.fr
END:VEVENT
END:VCALENDAR
