BEGIN:VCALENDAR
CALSCALE:GREGORIAN
VERSION:2.0
METHOD:PUBLISH 
X-WR-CALNAME:
BEGIN:VEVENT
DTSTART;TZID=Europe/Paris:20270128T200000
DTEND;TZID=Europe/Paris:20270128T210000
SUMMARY:Shen Yun - Tournée
CATEGORIE:Spectacles et théâtre
GEO:43.12814039158400;5.93150270689900
LOCATION:Zénith de Toulon\, Bd du Commandant Nicolas\, 83000 Toulon\, France
URL:https://www.fest.fr/e/2351020
UID:2351020-1@fest.fr
END:VEVENT
BEGIN:VEVENT
DTSTART;TZID=Europe/Paris:20270129T140000
DTEND;TZID=Europe/Paris:20270129T150000
SUMMARY:Shen Yun - Tournée
CATEGORIE:Spectacles et théâtre
GEO:43.12814039158400;5.93150270689900
LOCATION:Zénith de Toulon\, Bd du Commandant Nicolas\, 83000 Toulon\, France
URL:https://www.fest.fr/e/2351020
UID:2351020-2@fest.fr
END:VEVENT
BEGIN:VEVENT
DTSTART;TZID=Europe/Paris:20270130T140000
DTEND;TZID=Europe/Paris:20270130T150000
SUMMARY:Shen Yun - Tournée
CATEGORIE:Spectacles et théâtre
GEO:43.12814039158400;5.93150270689900
LOCATION:Zénith de Toulon\, Bd du Commandant Nicolas\, 83000 Toulon\, France
URL:https://www.fest.fr/e/2351020
UID:2351020-3@fest.fr
END:VEVENT
BEGIN:VEVENT
DTSTART;TZID=Europe/Paris:20270130T190000
DTEND;TZID=Europe/Paris:20270130T200000
SUMMARY:Shen Yun - Tournée
CATEGORIE:Spectacles et théâtre
GEO:43.12814039158400;5.93150270689900
LOCATION:Zénith de Toulon\, Bd du Commandant Nicolas\, 83000 Toulon\, France
URL:https://www.fest.fr/e/2351020
UID:2351020-4@fest.fr
END:VEVENT
END:VCALENDAR
