BEGIN:VCALENDAR
CALSCALE:GREGORIAN
VERSION:2.0
METHOD:PUBLISH 
X-WR-CALNAME:
BEGIN:VEVENT
DTSTART;TZID=Europe/Paris:20260307T100000
DTEND;TZID=Europe/Paris:20260307T110000
SUMMARY:Festival Ça Suffit !
CATEGORIE:Social et solidaire
GEO:48.70076018811871;6.21882198081430
LOCATION:Salle Maringer\, 10, rue Parmentier\, 54270 Essey-lès-Nancy\, France
URL:https://www.fest.fr/e/2350901
UID:2350901-1@fest.fr
END:VEVENT
BEGIN:VEVENT
DTSTART;TZID=Europe/Paris:20260308T100000
DTEND;TZID=Europe/Paris:20260308T110000
SUMMARY:Festival Ça Suffit !
CATEGORIE:Social et solidaire
GEO:48.70076018811871;6.21882198081430
LOCATION:Salle Maringer\, 10, rue Parmentier\, 54270 Essey-lès-Nancy\, France
URL:https://www.fest.fr/e/2350901
UID:2350901-2@fest.fr
END:VEVENT
END:VCALENDAR
