BEGIN:VCALENDAR
CALSCALE:GREGORIAN
VERSION:2.0
METHOD:PUBLISH 
X-WR-CALNAME:
BEGIN:VEVENT
DTSTART;TZID=Europe/Paris:20260420T140000
DTEND;TZID=Europe/Paris:20260420T150000
SUMMARY:Conférence : don d'organes et greffes, parlons-en !
CATEGORIE:Conférences, Forums et Débats
GEO:47.65102000000000;-2.08593000000000
LOCATION:Le Carré 9, 9 rue de Galerne\, 35600 Redon\, France
URL:https://www.fest.fr/e/2349784
UID:2349784-1@fest.fr
END:VEVENT
END:VCALENDAR
