BEGIN:VCALENDAR
CALSCALE:GREGORIAN
VERSION:2.0
METHOD:PUBLISH 
X-WR-CALNAME:
BEGIN:VEVENT
DTSTART;TZID=Europe/Paris:20260512T183000
DTEND;TZID=Europe/Paris:20260512T193000
SUMMARY:[ Atelier Pura Véda ] Spécial été - Saison Pitta
CATEGORIE:Stages, Ateliers et Initiations
GEO:47.34130870000000;2.86294978000000
LOCATION:Saint Thibault\, 18300 Saint-Satur\, France
URL:https://www.fest.fr/e/2349508
UID:2349508-1@fest.fr
END:VEVENT
END:VCALENDAR
