BEGIN:VCALENDAR
CALSCALE:GREGORIAN
VERSION:2.0
METHOD:PUBLISH 
X-WR-CALNAME:
BEGIN:VEVENT
DTSTART;TZID=Europe/Paris:20260612T093000
DTEND;TZID=Europe/Paris:20260612T103000
SUMMARY:Le Lin en Fête
CATEGORIE:Marchés, Foires et Salons
GEO:49.72153400000000;0.78485600000000
LOCATION:Place Général de Gaulle\, 76560 Doudeville\, France
URL:https://www.fest.fr/e/2348006
UID:2348006-1@fest.fr
END:VEVENT
BEGIN:VEVENT
DTSTART;TZID=Europe/Paris:20260613T093000
DTEND;TZID=Europe/Paris:20260613T103000
SUMMARY:Le Lin en Fête
CATEGORIE:Marchés, Foires et Salons
GEO:49.72153400000000;0.78485600000000
LOCATION:Place Général de Gaulle\, 76560 Doudeville\, France
URL:https://www.fest.fr/e/2348006
UID:2348006-2@fest.fr
END:VEVENT
BEGIN:VEVENT
DTSTART;TZID=Europe/Paris:20260614T093000
DTEND;TZID=Europe/Paris:20260614T103000
SUMMARY:Le Lin en Fête
CATEGORIE:Marchés, Foires et Salons
GEO:49.72153400000000;0.78485600000000
LOCATION:Place Général de Gaulle\, 76560 Doudeville\, France
URL:https://www.fest.fr/e/2348006
UID:2348006-3@fest.fr
END:VEVENT
END:VCALENDAR
