BEGIN:VCALENDAR
CALSCALE:GREGORIAN
VERSION:2.0
METHOD:PUBLISH 
X-WR-CALNAME:
BEGIN:VEVENT
DTSTART;TZID=Europe/Paris:20260710T123456
DTEND;TZID=Europe/Paris:20260710T133456
SUMMARY:2ème Biennale de la photographie
CATEGORIE:Expositions, Visites et Découvertes
GEO:45.29385300000000;3.38607500000000
LOCATION:place Lafayette\, 43100 Brioude\, France
URL:https://www.fest.fr/e/2345645
UID:2345645-1@fest.fr
END:VEVENT
END:VCALENDAR
