BEGIN:VCALENDAR
CALSCALE:GREGORIAN
VERSION:2.0
METHOD:PUBLISH 
X-WR-CALNAME:
BEGIN:VEVENT
DTSTART;TZID=Europe/Paris:20261115T093000
DTEND;TZID=Europe/Paris:20261115T103000
SUMMARY:Jardinons ! Atelier "fabriquer une clôture naturelle"
CATEGORIE:Stages, Ateliers et Initiations
GEO:49.44081400000000;1.20556800000000
LOCATION:Saint-Jacques-sur-Darnétal\, Saint-Jacques-sur-Darnétal\, 76160 Darnétal\, France
URL:https://www.fest.fr/e/2344046
UID:2344046-1@fest.fr
END:VEVENT
END:VCALENDAR
