BEGIN:VCALENDAR
CALSCALE:GREGORIAN
VERSION:2.0
METHOD:PUBLISH 
X-WR-CALNAME:
BEGIN:VEVENT
DTSTART;TZID=Europe/Paris:20260223T100000
DTEND;TZID=Europe/Paris:20260223T110000
SUMMARY:Stage Théâtre et/ou Cinéma – vacances de Février (Ados 11-15 ans)
CATEGORIE:Stages, Ateliers et Initiations
LOCATION:Atelier Juliette Moltes\, 77 rue de Charonne\, 75011 Paris 11e\, France
URL:https://www.fest.fr/e/2342085
UID:2342085-1@fest.fr
END:VEVENT
BEGIN:VEVENT
DTSTART;TZID=Europe/Paris:20260224T100000
DTEND;TZID=Europe/Paris:20260224T110000
SUMMARY:Stage Théâtre et/ou Cinéma – vacances de Février (Ados 11-15 ans)
CATEGORIE:Stages, Ateliers et Initiations
LOCATION:Atelier Juliette Moltes\, 77 rue de Charonne\, 75011 Paris 11e\, France
URL:https://www.fest.fr/e/2342085
UID:2342085-2@fest.fr
END:VEVENT
BEGIN:VEVENT
DTSTART;TZID=Europe/Paris:20260225T100000
DTEND;TZID=Europe/Paris:20260225T110000
SUMMARY:Stage Théâtre et/ou Cinéma – vacances de Février (Ados 11-15 ans)
CATEGORIE:Stages, Ateliers et Initiations
LOCATION:Atelier Juliette Moltes\, 77 rue de Charonne\, 75011 Paris 11e\, France
URL:https://www.fest.fr/e/2342085
UID:2342085-3@fest.fr
END:VEVENT
BEGIN:VEVENT
DTSTART;TZID=Europe/Paris:20260226T100000
DTEND;TZID=Europe/Paris:20260226T110000
SUMMARY:Stage Théâtre et/ou Cinéma – vacances de Février (Ados 11-15 ans)
CATEGORIE:Stages, Ateliers et Initiations
LOCATION:Atelier Juliette Moltes\, 77 rue de Charonne\, 75011 Paris 11e\, France
URL:https://www.fest.fr/e/2342085
UID:2342085-4@fest.fr
END:VEVENT
BEGIN:VEVENT
DTSTART;TZID=Europe/Paris:20260227T100000
DTEND;TZID=Europe/Paris:20260227T110000
SUMMARY:Stage Théâtre et/ou Cinéma – vacances de Février (Ados 11-15 ans)
CATEGORIE:Stages, Ateliers et Initiations
LOCATION:Atelier Juliette Moltes\, 77 rue de Charonne\, 75011 Paris 11e\, France
URL:https://www.fest.fr/e/2342085
UID:2342085-5@fest.fr
END:VEVENT
BEGIN:VEVENT
DTSTART;TZID=Europe/Paris:20260302T100000
DTEND;TZID=Europe/Paris:20260302T110000
SUMMARY:Stage Théâtre et/ou Cinéma – vacances de Février (Ados 11-15 ans)
CATEGORIE:Stages, Ateliers et Initiations
LOCATION:Atelier Juliette Moltes\, 77 rue de Charonne\, 75011 Paris 11e\, France
URL:https://www.fest.fr/e/2342085
UID:2342085-6@fest.fr
END:VEVENT
BEGIN:VEVENT
DTSTART;TZID=Europe/Paris:20260303T100000
DTEND;TZID=Europe/Paris:20260303T110000
SUMMARY:Stage Théâtre et/ou Cinéma – vacances de Février (Ados 11-15 ans)
CATEGORIE:Stages, Ateliers et Initiations
LOCATION:Atelier Juliette Moltes\, 77 rue de Charonne\, 75011 Paris 11e\, France
URL:https://www.fest.fr/e/2342085
UID:2342085-7@fest.fr
END:VEVENT
BEGIN:VEVENT
DTSTART;TZID=Europe/Paris:20260304T100000
DTEND;TZID=Europe/Paris:20260304T110000
SUMMARY:Stage Théâtre et/ou Cinéma – vacances de Février (Ados 11-15 ans)
CATEGORIE:Stages, Ateliers et Initiations
LOCATION:Atelier Juliette Moltes\, 77 rue de Charonne\, 75011 Paris 11e\, France
URL:https://www.fest.fr/e/2342085
UID:2342085-8@fest.fr
END:VEVENT
BEGIN:VEVENT
DTSTART;TZID=Europe/Paris:20260305T100000
DTEND;TZID=Europe/Paris:20260305T110000
SUMMARY:Stage Théâtre et/ou Cinéma – vacances de Février (Ados 11-15 ans)
CATEGORIE:Stages, Ateliers et Initiations
LOCATION:Atelier Juliette Moltes\, 77 rue de Charonne\, 75011 Paris 11e\, France
URL:https://www.fest.fr/e/2342085
UID:2342085-9@fest.fr
END:VEVENT
BEGIN:VEVENT
DTSTART;TZID=Europe/Paris:20260306T100000
DTEND;TZID=Europe/Paris:20260306T110000
SUMMARY:Stage Théâtre et/ou Cinéma – vacances de Février (Ados 11-15 ans)
CATEGORIE:Stages, Ateliers et Initiations
LOCATION:Atelier Juliette Moltes\, 77 rue de Charonne\, 75011 Paris 11e\, France
URL:https://www.fest.fr/e/2342085
UID:2342085-10@fest.fr
END:VEVENT
END:VCALENDAR
