BEGIN:VCALENDAR
CALSCALE:GREGORIAN
VERSION:2.0
METHOD:PUBLISH 
X-WR-CALNAME:
BEGIN:VEVENT
DTSTART;TZID=Europe/Paris:20260628T160000
DTEND;TZID=Europe/Paris:20260628T170000
SUMMARY:Water Music
CATEGORIE:Concerts et Musique
GEO:49.86800040000000;1.17780840000000
LOCATION:490 Place de L’Eglise\, 76510 Saint-Aubin-le-Cauf\, France
URL:https://www.fest.fr/e/2341172
UID:2341172-1@fest.fr
END:VEVENT
END:VCALENDAR
