BEGIN:VCALENDAR
CALSCALE:GREGORIAN
VERSION:2.0
METHOD:PUBLISH 
X-WR-CALNAME:
BEGIN:VEVENT
DTSTART;TZID=Europe/Paris:20260814T200000
DTEND;TZID=Europe/Paris:20260814T210000
SUMMARY:Les Stars de la Nuit
CATEGORIE:Expositions, Visites et Découvertes
GEO:46.07449600000000;-0.36396200000000
LOCATION:Asinerie du Baudet du Poitou
La Tillauderie\, 17470 Dampierre-sur-Boutonne\, France
URL:https://www.fest.fr/e/2340912
UID:2340912-1@fest.fr
END:VEVENT
END:VCALENDAR
