BEGIN:VCALENDAR
CALSCALE:GREGORIAN
VERSION:2.0
METHOD:PUBLISH 
X-WR-CALNAME:
BEGIN:VEVENT
DTSTART;TZID=Europe/Paris:20260811T170000
DTEND;TZID=Europe/Paris:20260811T180000
SUMMARY:Robin Maxime en concert
CATEGORIE:Concerts et musique
GEO:47.90926936093200;3.71377556685400
LOCATION:Abbaye de Pontigny\, 5 Avenue de l'Abbaye\, 89230 Pontigny\, France
URL:https://www.fest.fr/e/2340788
UID:2340788-1@fest.fr
END:VEVENT
END:VCALENDAR
