BEGIN:VCALENDAR
CALSCALE:GREGORIAN
VERSION:2.0
METHOD:PUBLISH 
X-WR-CALNAME:
BEGIN:VEVENT
DTSTART;TZID=Europe/Paris:20260218T140000
DTEND;TZID=Europe/Paris:20260218T150000
SUMMARY:Atelier créatif
CATEGORIE:Stages, Ateliers et Initiations
GEO:43.88318100000000;4.85383000000000
LOCATION:11 Cours Carnot
Espace Isidore Rollande
Médiathèque Isidore Rollande\, 13160 Châteaurenard\, France
URL:https://www.fest.fr/e/2339789
UID:2339789-1@fest.fr
END:VEVENT
END:VCALENDAR
