BEGIN:VCALENDAR
CALSCALE:GREGORIAN
VERSION:2.0
METHOD:PUBLISH 
X-WR-CALNAME:
BEGIN:VEVENT
DTSTART;TZID=Europe/Paris:20260424T210000
DTEND;TZID=Europe/Paris:20260424T220000
SUMMARY:Ruines de nuit
CATEGORIE:Expositions, Visites et Découvertes
GEO:49.43463530000000;0.82079070000000
LOCATION:Rue Guillaume le Conquérant\, 76480 Jumièges\, France
URL:https://www.fest.fr/e/2339503
UID:2339503-1@fest.fr
END:VEVENT
END:VCALENDAR
