BEGIN:VCALENDAR
CALSCALE:GREGORIAN
VERSION:2.0
METHOD:PUBLISH 
X-WR-CALNAME:
BEGIN:VEVENT
DTSTART;TZID=Europe/Paris:20260807T193000
DTEND;TZID=Europe/Paris:20260807T203000
SUMMARY:Un soir d’été à Villesavin
CATEGORIE:Concerts et Musique
GEO:47.54645500000000;1.51461200000000
LOCATION:Château de Villesavin\, 41250 Tour-en-Sologne\, France
URL:https://www.fest.fr/e/2339426
UID:2339426-1@fest.fr
END:VEVENT
END:VCALENDAR
