BEGIN:VCALENDAR
CALSCALE:GREGORIAN
VERSION:2.0
METHOD:PUBLISH 
X-WR-CALNAME:
BEGIN:VEVENT
DTSTART;TZID=Europe/Paris:20260421T200000
DTEND;TZID=Europe/Paris:20260421T210000
SUMMARY:Concert: Lubiana
CATEGORIE:Concerts et Musique
GEO:44.83366000000000;4.88522400000000
LOCATION:Domaine des Clévos\, 26800 Étoile-sur-Rhône\, France
URL:https://www.fest.fr/e/2339282
UID:2339282-1@fest.fr
END:VEVENT
END:VCALENDAR
