BEGIN:VCALENDAR
CALSCALE:GREGORIAN
VERSION:2.0
METHOD:PUBLISH 
X-WR-CALNAME:
BEGIN:VEVENT
DTSTART;TZID=Europe/Paris:20260516T204500
DTEND;TZID=Europe/Paris:20260516T214500
SUMMARY:Spectacle - Martine Fontaine
CATEGORIE:Spectacles et Théâtre
GEO:45.68307100000000;0.17350800000000
LOCATION:La BD comédie
zone d'activité les Avenauds\, 16160 Gond-Pontouvre\, France
URL:https://www.fest.fr/e/2338744
UID:2338744-1@fest.fr
END:VEVENT
END:VCALENDAR
