BEGIN:VCALENDAR
CALSCALE:GREGORIAN
VERSION:2.0
METHOD:PUBLISH 
X-WR-CALNAME:
BEGIN:VEVENT
DTSTART;TZID=Europe/Paris:20260505T200000
DTEND;TZID=Europe/Paris:20260505T210000
SUMMARY:Ciné-concert "L'incroyable femme des neiges" et l'Ensemble 0
CATEGORIE:Concerts et Musique
GEO:44.93017800000000;4.89394100000000
LOCATION:36 Bd. du Général de Gaulle 26000 Valence
Lux Scène Nationale Valence\, 26000 Valence\, France
URL:https://www.fest.fr/e/2338728
UID:2338728-1@fest.fr
END:VEVENT
END:VCALENDAR
