BEGIN:VCALENDAR
CALSCALE:GREGORIAN
VERSION:2.0
METHOD:PUBLISH 
X-WR-CALNAME:
BEGIN:VEVENT
DTSTART;TZID=Europe/Paris:20260506T123456
DTEND;TZID=Europe/Paris:20260506T133456
SUMMARY:CONFRONTATION 2026 - 61ÈME FESTIVAL DE CINÉMA
CATEGORIE:Non classé
GEO:42.69594730000000;2.89996906000000
LOCATION:1 Rue Jean Vielledent
L’Arsenal - Institut Jean Vigo\, 66100 Perpignan\, France
URL:https://www.fest.fr/e/2338246
UID:2338246-1@fest.fr
END:VEVENT
END:VCALENDAR
