BEGIN:VCALENDAR
CALSCALE:GREGORIAN
VERSION:2.0
METHOD:PUBLISH 
X-WR-CALNAME:
BEGIN:VEVENT
DTSTART;TZID=Europe/Paris:20260831T123456
DTEND;TZID=Europe/Paris:20260831T133456
SUMMARY:Exposition de photographies Ludivine Watbled
CATEGORIE:Expositions, Visites et Découvertes
GEO:45.84624400000000;-1.20792100000000
LOCATION:La cabane Le Galis
Pôle no 2 Quai Raoul Coulon
Rive gauche du port\, 17370 Saint-Trojan-les-Bains\, France
URL:https://www.fest.fr/e/2337820
UID:2337820-1@fest.fr
END:VEVENT
END:VCALENDAR
