BEGIN:VCALENDAR
CALSCALE:GREGORIAN
VERSION:2.0
METHOD:PUBLISH 
X-WR-CALNAME:
BEGIN:VEVENT
DTSTART;TZID=Europe/Paris:20260730T100000
DTEND;TZID=Europe/Paris:20260730T110000
SUMMARY:jeudi des jeux géants
CATEGORIE:Jeux et Concours
GEO:45.24385500000000;-0.27295300000000
LOCATION:CDCHS Maison de la Forêt
tout vent\, 17210 Montlieu-la-Garde\, France
URL:https://www.fest.fr/e/2337659
UID:2337659-1@fest.fr
END:VEVENT
END:VCALENDAR
