BEGIN:VCALENDAR
CALSCALE:GREGORIAN
VERSION:2.0
METHOD:PUBLISH 
X-WR-CALNAME:
BEGIN:VEVENT
DTSTART;TZID=Europe/Paris:20260513T123456
DTEND;TZID=Europe/Paris:20260513T133456
SUMMARY:Festival des Veyracomusies
CATEGORIE:Concerts et Musique
GEO:45.89896260000000;1.09200720000000
LOCATION:Mas Martin\, 87520 Veyrac\, France
URL:https://www.fest.fr/e/2337090
UID:2337090-1@fest.fr
END:VEVENT
END:VCALENDAR
