BEGIN:VCALENDAR
CALSCALE:GREGORIAN
VERSION:2.0
METHOD:PUBLISH 
X-WR-CALNAME:
BEGIN:VEVENT
DTSTART;TZID=Europe/Paris:20260425T213000
DTEND;TZID=Europe/Paris:20260425T223000
SUMMARY:Malik Belkhodja - Charo Responsable - Le Metropole, Paris
CATEGORIE:Spectacles et théâtre
GEO:48.87027142462900;2.34638353717200
LOCATION:Le Métropole\, 39, rue du Sentier\, 75002 Paris 2e\, France
URL:https://www.fest.fr/e/2337048
UID:2337048-1@fest.fr
END:VEVENT
END:VCALENDAR
