BEGIN:VCALENDAR
CALSCALE:GREGORIAN
VERSION:2.0
METHOD:PUBLISH 
X-WR-CALNAME:
BEGIN:VEVENT
DTSTART;TZID=Europe/Paris:20260514T140000
DTEND;TZID=Europe/Paris:20260514T150000
SUMMARY:Stage "mini-soigneur"
CATEGORIE:Stages, Ateliers et Initiations
GEO:43.12876550000000;-0.26847680000000
LOCATION:6 Chemin de Brouquet
Zoo d'Asson\, 64800 Asson\, France
URL:https://www.fest.fr/e/2336753
UID:2336753-1@fest.fr
END:VEVENT
END:VCALENDAR
