BEGIN:VCALENDAR
CALSCALE:GREGORIAN
VERSION:2.0
METHOD:PUBLISH 
X-WR-CALNAME:
BEGIN:VEVENT
DTSTART;TZID=Europe/Paris:20260929T150000
DTEND;TZID=Europe/Paris:20260929T160000
SUMMARY:Don du Sang
CATEGORIE:Social et solidaire
GEO:45.10949580000000;0.46429362000000
LOCATION:Planèze
Salle des associations\, 24190 Neuvic\, France
URL:https://www.fest.fr/e/2336685
UID:2336685-1@fest.fr
END:VEVENT
END:VCALENDAR
