BEGIN:VCALENDAR
CALSCALE:GREGORIAN
VERSION:2.0
METHOD:PUBLISH 
X-WR-CALNAME:
BEGIN:VEVENT
DTSTART;TZID=Europe/Paris:20260430T100000
DTEND;TZID=Europe/Paris:20260430T110000
SUMMARY:Bébés lecteurs
CATEGORIE:Littérature
GEO:43.87476040000000;-1.30256950000000
LOCATION:Médiathèque
Rue Fernand Duboscq\, 40550 Léon\, France
URL:https://www.fest.fr/e/2336558
UID:2336558-1@fest.fr
END:VEVENT
END:VCALENDAR
