BEGIN:VCALENDAR
CALSCALE:GREGORIAN
VERSION:2.0
METHOD:PUBLISH 
X-WR-CALNAME:
BEGIN:VEVENT
DTSTART;TZID=Europe/Paris:20261029T150000
DTEND;TZID=Europe/Paris:20261029T160000
SUMMARY:Collecte de sang
CATEGORIE:Social et solidaire
GEO:46.79783800000000;0.52808700000000
LOCATION:12 avenue Camille Pagé
Salle Polyvalente Camille Pagé\, 86100 Châtellerault\, France
URL:https://www.fest.fr/e/2336334
UID:2336334-1@fest.fr
END:VEVENT
END:VCALENDAR
