BEGIN:VCALENDAR
CALSCALE:GREGORIAN
VERSION:2.0
METHOD:PUBLISH 
X-WR-CALNAME:
BEGIN:VEVENT
DTSTART;TZID=Europe/Paris:20260516T080000
DTEND;TZID=Europe/Paris:20260516T090000
SUMMARY:Marché paysan
CATEGORIE:Marchés, Foires et Salons
GEO:43.30013000000000;-0.30709000000000
LOCATION:3 Avenue du Stade
Halles\, 64320 Idron\, France
URL:https://www.fest.fr/e/2336040
UID:2336040-1@fest.fr
END:VEVENT
END:VCALENDAR
