BEGIN:VCALENDAR
CALSCALE:GREGORIAN
VERSION:2.0
METHOD:PUBLISH 
X-WR-CALNAME:
BEGIN:VEVENT
DTSTART;TZID=Europe/Paris:20260418T150000
DTEND;TZID=Europe/Paris:20260418T160000
SUMMARY:Belles, belles, belles - Comédie Musicale
CATEGORIE:Spectacles et Théâtre
GEO:45.18454000000000;0.71681000000000
LOCATION:Esplanade Robert Badinter
Théâtre de l'Odyssée\, 24000 Périgueux\, France
URL:https://www.fest.fr/e/2335564
UID:2335564-1@fest.fr
END:VEVENT
END:VCALENDAR
