BEGIN:VCALENDAR
CALSCALE:GREGORIAN
VERSION:2.0
METHOD:PUBLISH 
X-WR-CALNAME:
BEGIN:VEVENT
DTSTART;TZID=Europe/Paris:20260729T180000
DTEND;TZID=Europe/Paris:20260729T190000
SUMMARY:Marché nocturne
CATEGORIE:Marchés, Foires et Salons
GEO:44.06267560000000;-1.22727680000000
LOCATION:Halle couverte\, 40170 Saint-Julien-en-Born\, France
URL:https://www.fest.fr/e/2335548
UID:2335548-1@fest.fr
END:VEVENT
END:VCALENDAR
