BEGIN:VCALENDAR
CALSCALE:GREGORIAN
VERSION:2.0
METHOD:PUBLISH 
X-WR-CALNAME:
BEGIN:VEVENT
DTSTART;TZID=Europe/Paris:20260419T110000
DTEND;TZID=Europe/Paris:20260419T120000
SUMMARY:Danse - Azala
CATEGORIE:Spectacles et Théâtre
GEO:43.37125360000000;-1.78399700000000
LOCATION:119 boulevard de la Mer
Espace Culturel Mendi Zolan\, 64700 Hendaye\, France
URL:https://www.fest.fr/e/2334787
UID:2334787-1@fest.fr
END:VEVENT
END:VCALENDAR
