BEGIN:VCALENDAR
CALSCALE:GREGORIAN
VERSION:2.0
METHOD:PUBLISH 
X-WR-CALNAME:
BEGIN:VEVENT
DTSTART;TZID=Europe/Paris:20260505T200000
DTEND;TZID=Europe/Paris:20260505T210000
SUMMARY:Odyssée - UN SOIR CHEZ BORIS
CATEGORIE:Cirques
GEO:45.18488120000000;0.71607293000000
LOCATION:Square Jean Jaures
Yourte Square Jean Jaures\, 24000 Périgueux\, France
URL:https://www.fest.fr/e/2334655
UID:2334655-1@fest.fr
END:VEVENT
BEGIN:VEVENT
DTSTART;TZID=Europe/Paris:20260506T200000
DTEND;TZID=Europe/Paris:20260506T210000
SUMMARY:Odyssée - UN SOIR CHEZ BORIS
CATEGORIE:Cirques
GEO:45.18488120000000;0.71607293000000
LOCATION:Square Jean Jaures
Yourte Square Jean Jaures\, 24000 Périgueux\, France
URL:https://www.fest.fr/e/2334655
UID:2334655-2@fest.fr
END:VEVENT
BEGIN:VEVENT
DTSTART;TZID=Europe/Paris:20260507T200000
DTEND;TZID=Europe/Paris:20260507T210000
SUMMARY:Odyssée - UN SOIR CHEZ BORIS
CATEGORIE:Cirques
GEO:45.18488120000000;0.71607293000000
LOCATION:Square Jean Jaures
Yourte Square Jean Jaures\, 24000 Périgueux\, France
URL:https://www.fest.fr/e/2334655
UID:2334655-3@fest.fr
END:VEVENT
END:VCALENDAR
