BEGIN:VCALENDAR
CALSCALE:GREGORIAN
VERSION:2.0
METHOD:PUBLISH 
X-WR-CALNAME:
BEGIN:VEVENT
DTSTART;TZID=Europe/Paris:20260123T123456
DTEND;TZID=Europe/Paris:20260123T133456
SUMMARY:Rencontre avec... Marie-Hélène Lafon, Violaine Bérot et Elsa Sanial
CATEGORIE:Littérature
GEO:43.10550040000000;-0.42841270000000
LOCATION:Mediathèque les Arcades
Place de l'Hôtel de ville\, 64260 Arudy\, France
URL:https://www.fest.fr/e/2334406
UID:2334406-1@fest.fr
END:VEVENT
END:VCALENDAR
