BEGIN:VCALENDAR
CALSCALE:GREGORIAN
VERSION:2.0
METHOD:PUBLISH 
X-WR-CALNAME:
BEGIN:VEVENT
DTSTART;TZID=Europe/Paris:20260812T123456
DTEND;TZID=Europe/Paris:20260812T133456
SUMMARY:Uzerche aux Lampions - Visite nocturne
CATEGORIE:Expositions, Visites et Découvertes
GEO:45.42262500000000;1.56336700000000
LOCATION:Rue Gaby Furnestin\, 19140 Uzerche\, France
URL:https://www.fest.fr/e/2334390
UID:2334390-1@fest.fr
END:VEVENT
END:VCALENDAR
